Workbook
Name Print_Area: 'ABRIL 26'!$A$1:$N$589
Name Print_Area: 'ACUERDO 2DO. TRIMESTRE 2026'!$A:$P
Name Print_Area: 'JUNIO 26'!$A$2:$O$588
Name Print_Area: 'MAYO 26'!$A$1:$O$590
Name Print_Titles: 'ABRIL 26'!$7:$8
Name Print_Titles: 'ACUERDO 2DO. TRIMESTRE 2026'!$6:$8
Name Print_Titles: 'JUNIO 26'!$7:$8
Name Print_Titles: 'MAYO 26'!$7:$8

Sheet ACUERDO 2DO. TRIMESTRE 2026
A6: I. Importe de las participaciones pagadas a los Municipios del Estado de Oaxaca correspondiente al SEGUNDO TRIMESTRE ABRIL - JUNIO 2026, incluye el 1er Ajuste Trimestral 2026 del Fondo de Fiscalización y Recaudación; los Ajustes (Negativos) Definitivos 2025, del Fondo de Fomento Municipal, del Fondo de Impuesto Especial Sobre Producción y Servicios, del Fondo General de Participaciones y del Fondo de Fiscalización y Recaudación, asi como el 1er Ajuste Cuatrimestral 2026 del Fondo General de Participaciones, del Fondo de Fomento Municipal y del Fondo de Impuesto Especial Sobre Producción y Servicios, y el Impuesto Sobre la Venta Final de Bebidas con Contenido Alcohólico correspondiente al Ejercicio 2024.
A8: CLAVE DE MUNICIPIO | B8: MUNICIPIO | C8: FONDO GENERAL DE PARTICIPACIONES | D8: FONDO DE FOMENTO MUNICIPAL | E8: FONDO DE IMPUESTOS ESPECIALES SOBRE PRODUCCION Y SERVICIOS | F8: FONDO DE FISCALIZACION Y RECAUDACIÓN | G8: FONDO DE COMPENSACION | H8: IMPUESTO SOBRE AUTOMÓVILES NUEVOS | I8: IMPUESTO A LAS VENTAS FINALES DE GASOLINAS Y DIESEL | J8: 9/11 FIEPS GASOLINA Y DIESEL (CORRESPONDIENTE A ABRIL 2026) | K8: FONDO DE COMPENSACION DEL IMPUESTO SOBRE AUTOMOVILES NUEVOS ISAN | L8: ISR ARTICULO 126 | M8: ISR 3-B | N8: IMPUESTO SOBRE LA VENTA FINAL DE BEBIDAS CON CONTENIDO ALCOHÓLICO (CORRESPONDIENTE AL EJERCICIO 2024) | O8: HIDROCARBUROS | P8: TOTAL
A9: 001 | B9: ABEJONES | C9: =+'ABRIL 26'!C9+'MAYO 26'!C9+'JUNIO 26'!C9 -> 437032.67 | D9: =+'ABRIL 26'!D9+'MAYO 26'!D9+'JUNIO 26'!D9 -> 159424.8 | E9: =+'ABRIL 26'!E9+'MAYO 26'!E9+'JUNIO 26'!E9 -> 6422.09 | F9: =+'ABRIL 26'!F9+'MAYO 26'!F9+'JUNIO 26'!F9 -> 26173.54 | G9: =+'ABRIL 26'!G9+'MAYO 26'!G9+'JUNIO 26'!G9 -> 6003.48 | H9: =+'ABRIL 26'!H9+'MAYO 26'!H9+'JUNIO 26'!H9 -> 2069.57 | I9: =+'ABRIL 26'!I9+'MAYO 26'!I9+'JUNIO 26'!I9 -> 4902.73 | J9: ='MAYO 26'!J9 -> 1.1 | K9: =+'ABRIL 26'!J9+'MAYO 26'!K9+'JUNIO 26'!J9 -> 1376.37 | L9: =+'ABRIL 26'!K9+'MAYO 26'!L9+'JUNIO 26'!K9 -> 377.13 | M9: =+'ABRIL 26'!L9+'MAYO 26'!M9+'JUNIO 26'!L9 -> 0 | N9: =+'JUNIO 26'!M9 -> 2149.73 | O9: =+'ABRIL 26'!M9+'MAYO 26'!N9+'JUNIO 26'!N9 -> 0 | P9: =SUM(C9:O9) -> 645933.21
A10: 002 | B10: ACATLAN DE PEREZ FIGUEROA | C10: =+'ABRIL 26'!C10+'MAYO 26'!C10+'JUNIO 26'!C10 -> 11799595 | D10: =+'ABRIL 26'!D10+'MAYO 26'!D10+'JUNIO 26'!D10 -> 6093968.9 | E10: =+'ABRIL 26'!E10+'MAYO 26'!E10+'JUNIO 26'!E10 -> 118835.67 | F10: =+'ABRIL 26'!F10+'MAYO 26'!F10+'JUNIO 26'!F10 -> 755969.15 | G10: =+'ABRIL 26'!G10+'MAYO 26'!G10+'JUNIO 26'!G10 -> 320766.23 | H10: =+'ABRIL 26'!H10+'MAYO 26'!H10+'JUNIO 26'!H10 -> 59777.97 | I10: =+'ABRIL 26'!I10+'MAYO 26'!I10+'JUNIO 26'!I10 -> 285271.5 | J10: ='MAYO 26'!J10 -> 64.05 | K10: =+'ABRIL 26'!J10+'MAYO 26'!K10+'JUNIO 26'!J10 -> 18049.5 | L10: =+'ABRIL 26'!K10+'MAYO 26'!L10+'JUNIO 26'!K10 -> 24196.03 | M10: =+'ABRIL 26'!L10+'MAYO 26'!M10+'JUNIO 26'!L10 -> 0 | N10: =+'JUNIO 26'!M10 -> 13927.81 | O10: =+'ABRIL 26'!M10+'MAYO 26'!N10+'JUNIO 26'!N10 -> 126255.81 | P10: =SUM(C10:O10) -> 19616677
A11: 003 | B11: ASUNCION CACALOTEPEC | C11: =+'ABRIL 26'!C11+'MAYO 26'!C11+'JUNIO 26'!C11 -> 740177.47 | D11: =+'ABRIL 26'!D11+'MAYO 26'!D11+'JUNIO 26'!D11 -> 148696.8 | E11: =+'ABRIL 26'!E11+'MAYO 26'!E11+'JUNIO 26'!E11 -> 8923.49 | F11: =+'ABRIL 26'!F11+'MAYO 26'!F11+'JUNIO 26'!F11 -> 46300.03 | G11: =+'ABRIL 26'!G11+'MAYO 26'!G11+'JUNIO 26'!G11 -> 18413.97 | H11: =+'ABRIL 26'!H11+'MAYO 26'!H11+'JUNIO 26'!H11 -> 3653.5 | I11: =+'ABRIL 26'!I11+'MAYO 26'!I11+'JUNIO 26'!I11 -> 14937.12 | J11: ='MAYO 26'!J11 -> 3.35 | K11: =+'ABRIL 26'!J11+'MAYO 26'!K11+'JUNIO 26'!J11 -> 1628.85 | L11: =+'ABRIL 26'!K11+'MAYO 26'!L11+'JUNIO 26'!K11 -> 1158.11 | M11: =+'ABRIL 26'!L11+'MAYO 26'!M11+'JUNIO 26'!L11 -> 0 | N11: =+'JUNIO 26'!M11 -> 2603.04 | O11: =+'ABRIL 26'!M11+'MAYO 26'!N11+'JUNIO 26'!N11 -> 0 | P11: =SUM(C11:O11) -> 986495.73
A12: 004 | B12: ASUNCION CUYOTEPEJI | C12: =+'ABRIL 26'!C12+'MAYO 26'!C12+'JUNIO 26'!C12 -> 432494.31 | D12: =+'ABRIL 26'!D12+'MAYO 26'!D12+'JUNIO 26'!D12 -> 212431.33 | E12: =+'ABRIL 26'!E12+'MAYO 26'!E12+'JUNIO 26'!E12 -> 5129.64 | F12: =+'ABRIL 26'!F12+'MAYO 26'!F12+'JUNIO 26'!F12 -> 27099.28 | G12: =+'ABRIL 26'!G12+'MAYO 26'!G12+'JUNIO 26'!G12 -> 7791.84 | H12: =+'ABRIL 26'!H12+'MAYO 26'!H12+'JUNIO 26'!H12 -> 2145.19 | I12: =+'ABRIL 26'!I12+'MAYO 26'!I12+'JUNIO 26'!I12 -> 7599.59 | J12: ='MAYO 26'!J12 -> 1.71 | K12: =+'ABRIL 26'!J12+'MAYO 26'!K12+'JUNIO 26'!J12 -> 999.42 | L12: =+'ABRIL 26'!K12+'MAYO 26'!L12+'JUNIO 26'!K12 -> 702.12 | M12: =+'ABRIL 26'!L12+'MAYO 26'!M12+'JUNIO 26'!L12 -> 0 | N12: =+'JUNIO 26'!M12 -> 2220.41 | O12: =+'ABRIL 26'!M12+'MAYO 26'!N12+'JUNIO 26'!N12 -> 0 | P12: =SUM(C12:O12) -> 698614.84
A13: 005 | B13: ASUNCION IXTALTEPEC | C13: =+'ABRIL 26'!C13+'MAYO 26'!C13+'JUNIO 26'!C13 -> 6354355.8 | D13: =+'ABRIL 26'!D13+'MAYO 26'!D13+'JUNIO 26'!D13 -> 1417038.4 | E13: =+'ABRIL 26'!E13+'MAYO 26'!E13+'JUNIO 26'!E13 -> 62257.64 | F13: =+'ABRIL 26'!F13+'MAYO 26'!F13+'JUNIO 26'!F13 -> 398725.31 | G13: =+'ABRIL 26'!G13+'MAYO 26'!G13+'JUNIO 26'!G13 -> 106611.59 | H13: =+'ABRIL 26'!H13+'MAYO 26'!H13+'JUNIO 26'!H13 -> 31797.61 | I13: =+'ABRIL 26'!I13+'MAYO 26'!I13+'JUNIO 26'!I13 -> 120939.3 | J13: ='MAYO 26'!J13 -> 27.16 | K13: =+'ABRIL 26'!J13+'MAYO 26'!K13+'JUNIO 26'!J13 -> 9199.41 | L13: =+'ABRIL 26'!K13+'MAYO 26'!L13+'JUNIO 26'!K13 -> 12581.9 | M13: =+'ABRIL 26'!L13+'MAYO 26'!M13+'JUNIO 26'!L13 -> 0 | N13: =+'JUNIO 26'!M13 -> 5981.34 | O13: =+'ABRIL 26'!M13+'MAYO 26'!N13+'JUNIO 26'!N13 -> 0 | P13: =SUM(C13:O13) -> 8519515.4
A14: 006 | B14: ASUNCION NOCHIXTLAN | C14: =+'ABRIL 26'!C14+'MAYO 26'!C14+'JUNIO 26'!C14 -> 8238913.4 | D14: =+'ABRIL 26'!D14+'MAYO 26'!D14+'JUNIO 26'!D14 -> 3051968.5 | E14: =+'ABRIL 26'!E14+'MAYO 26'!E14+'JUNIO 26'!E14 -> 71748.4 | F14: =+'ABRIL 26'!F14+'MAYO 26'!F14+'JUNIO 26'!F14 -> 527364.81 | G14: =+'ABRIL 26'!G14+'MAYO 26'!G14+'JUNIO 26'!G14 -> 144155.21 | H14: =+'ABRIL 26'!H14+'MAYO 26'!H14+'JUNIO 26'!H14 -> 42055.35 | I14: =+'ABRIL 26'!I14+'MAYO 26'!I14+'JUNIO 26'!I14 -> 173075.72 | J14: ='MAYO 26'!J14 -> 38.86 | K14: =+'ABRIL 26'!J14+'MAYO 26'!K14+'JUNIO 26'!J14 -> 9164.94 | L14: =+'ABRIL 26'!K14+'MAYO 26'!L14+'JUNIO 26'!K14 -> 18828.55 | M14: =+'ABRIL 26'!L14+'MAYO 26'!M14+'JUNIO 26'!L14 -> 414701 | N14: =+'JUNIO 26'!M14 -> 7363.86 | O14: =+'ABRIL 26'!M14+'MAYO 26'!N14+'JUNIO 26'!N14 -> 0 | P14: =SUM(C14:O14) -> 12699379
A15: 007 | B15: ASUNCION OCOTLAN | C15: =+'ABRIL 26'!C15+'MAYO 26'!C15+'JUNIO 26'!C15 -> 887581.41 | D15: =+'ABRIL 26'!D15+'MAYO 26'!D15+'JUNIO 26'!D15 -> 253389.84 | E15: =+'ABRIL 26'!E15+'MAYO 26'!E15+'JUNIO 26'!E15 -> 11496.04 | F15: =+'ABRIL 26'!F15+'MAYO 26'!F15+'JUNIO 26'!F15 -> 53526.82 | G15: =+'ABRIL 26'!G15+'MAYO 26'!G15+'JUNIO 26'!G15 -> 17742.35 | H15: =+'ABRIL 26'!H15+'MAYO 26'!H15+'JUNIO 26'!H15 -> 4268.36 | I15: =+'ABRIL 26'!I15+'MAYO 26'!I15+'JUNIO 26'!I15 -> 13961.77 | J15: ='MAYO 26'!J15 -> 3.13 | K15: =+'ABRIL 26'!J15+'MAYO 26'!K15+'JUNIO 26'!J15 -> 2337.09 | L15: =+'ABRIL 26'!K15+'MAYO 26'!L15+'JUNIO 26'!K15 -> 1073.94 | M15: =+'ABRIL 26'!L15+'MAYO 26'!M15+'JUNIO 26'!L15 -> 0 | N15: =+'JUNIO 26'!M15 -> 2562.66 | O15: =+'ABRIL 26'!M15+'MAYO 26'!N15+'JUNIO 26'!N15 -> 0 | P15: =SUM(C15:O15) -> 1247943.4
A16: 008 | B16: ASUNCION TLACOLULITA | C16: =+'ABRIL 26'!C16+'MAYO 26'!C16+'JUNIO 26'!C16 -> 446122.85 | D16: =+'ABRIL 26'!D16+'MAYO 26'!D16+'JUNIO 26'!D16 -> 175243.24 | E16: =+'ABRIL 26'!E16+'MAYO 26'!E16+'JUNIO 26'!E16 -> 5440.31 | F16: =+'ABRIL 26'!F16+'MAYO 26'!F16+'JUNIO 26'!F16 -> 27207.88 | G16: =+'ABRIL 26'!G16+'MAYO 26'!G16+'JUNIO 26'!G16 -> 5212.45 | H16: =+'ABRIL 26'!H16+'MAYO 26'!H16+'JUNIO 26'!H16 -> 2163.86 | I16: =+'ABRIL 26'!I16+'MAYO 26'!I16+'JUNIO 26'!I16 -> 5905.62 | J16: ='MAYO 26'!J16 -> 1.33 | K16: =+'ABRIL 26'!J16+'MAYO 26'!K16+'JUNIO 26'!J16 -> 991.77 | L16: =+'ABRIL 26'!K16+'MAYO 26'!L16+'JUNIO 26'!K16 -> 621.09 | M16: =+'ABRIL 26'!L16+'MAYO 26'!M16+'JUNIO 26'!L16 -> 0 | N16: =+'JUNIO 26'!M16 -> 2121.3 | O16: =+'ABRIL 26'!M16+'MAYO 26'!N16+'JUNIO 26'!N16 -> 0 | P16: =SUM(C16:O16) -> 671031.7
A17: 009 | B17: AYOTZINTEPEC | C17: =+'ABRIL 26'!C17+'MAYO 26'!C17+'JUNIO 26'!C17 -> 1696786.8 | D17: =+'ABRIL 26'!D17+'MAYO 26'!D17+'JUNIO 26'!D17 -> 501067.86 | E17: =+'ABRIL 26'!E17+'MAYO 26'!E17+'JUNIO 26'!E17 -> 17461.79 | F17: =+'ABRIL 26'!F17+'MAYO 26'!F17+'JUNIO 26'!F17 -> 104705.5 | G17: =+'ABRIL 26'!G17+'MAYO 26'!G17+'JUNIO 26'!G17 -> 48860.65 | H17: =+'ABRIL 26'!H17+'MAYO 26'!H17+'JUNIO 26'!H17 -> 8420.91 | I17: =+'ABRIL 26'!I17+'MAYO 26'!I17+'JUNIO 26'!I17 -> 39973.23 | J17: ='MAYO 26'!J17 -> 8.98 | K17: =+'ABRIL 26'!J17+'MAYO 26'!K17+'JUNIO 26'!J17 -> 3130.41 | L17: =+'ABRIL 26'!K17+'MAYO 26'!L17+'JUNIO 26'!K17 -> 3074.73 | M17: =+'ABRIL 26'!L17+'MAYO 26'!M17+'JUNIO 26'!L17 -> 0 | N17: =+'JUNIO 26'!M17 -> 3748.28 | O17: =+'ABRIL 26'!M17+'MAYO 26'!N17+'JUNIO 26'!N17 -> 0 | P17: =SUM(C17:O17) -> 2427239.1
A18: 010 | B18: EL BARRIO DE LA SOLEDAD | C18: =+'ABRIL 26'!C18+'MAYO 26'!C18+'JUNIO 26'!C18 -> 7952495.3 | D18: =+'ABRIL 26'!D18+'MAYO 26'!D18+'JUNIO 26'!D18 -> 1536530.8 | E18: =+'ABRIL 26'!E18+'MAYO 26'!E18+'JUNIO 26'!E18 -> 67972.45 | F18: =+'ABRIL 26'!F18+'MAYO 26'!F18+'JUNIO 26'!F18 -> 549967.3 | G18: =+'ABRIL 26'!G18+'MAYO 26'!G18+'JUNIO 26'!G18 -> 93946.9 | H18: =+'ABRIL 26'!H18+'MAYO 26'!H18+'JUNIO 26'!H18 -> 42440.05 | I18: =+'ABRIL 26'!I18+'MAYO 26'!I18+'JUNIO 26'!I18 -> 167413.01 | J18: ='MAYO 26'!J18 -> 37.59 | K18: =+'ABRIL 26'!J18+'MAYO 26'!K18+'JUNIO 26'!J18 -> 5676.66 | L18: =+'ABRIL 26'!K18+'MAYO 26'!L18+'JUNIO 26'!K18 -> 21991.37 | M18: =+'ABRIL 26'!L18+'MAYO 26'!M18+'JUNIO 26'!L18 -> 202430 | N18: =+'JUNIO 26'!M18 -> 5506.51 | O18: =+'ABRIL 26'!M18+'MAYO 26'!N18+'JUNIO 26'!N18 -> 0 | P18: =SUM(C18:O18) -> 10646408
A19: 011 | B19: CALIHUALA | C19: =+'ABRIL 26'!C19+'MAYO 26'!C19+'JUNIO 26'!C19 -> 466792.45 | D19: =+'ABRIL 26'!D19+'MAYO 26'!D19+'JUNIO 26'!D19 -> 214703.64 | E19: =+'ABRIL 26'!E19+'MAYO 26'!E19+'JUNIO 26'!E19 -> 6007.78 | F19: =+'ABRIL 26'!F19+'MAYO 26'!F19+'JUNIO 26'!F19 -> 29076.34 | G19: =+'ABRIL 26'!G19+'MAYO 26'!G19+'JUNIO 26'!G19 -> 10168.71 | H19: =+'ABRIL 26'!H19+'MAYO 26'!H19+'JUNIO 26'!H19 -> 2285.28 | I19: =+'ABRIL 26'!I19+'MAYO 26'!I19+'JUNIO 26'!I19 -> 8301.09 | J19: ='MAYO 26'!J19 -> 1.86 | K19: =+'ABRIL 26'!J19+'MAYO 26'!K19+'JUNIO 26'!J19 -> 1141.08 | L19: =+'ABRIL 26'!K19+'MAYO 26'!L19+'JUNIO 26'!K19 -> 651.64 | M19: =+'ABRIL 26'!L19+'MAYO 26'!M19+'JUNIO 26'!L19 -> 0 | N19: =+'JUNIO 26'!M19 -> 2298.8 | O19: =+'ABRIL 26'!M19+'MAYO 26'!N19+'JUNIO 26'!N19 -> 0 | P19: =SUM(C19:O19) -> 741428.67
A20: 012 | B20: CANDELARIA LOXICHA | C20: =+'ABRIL 26'!C20+'MAYO 26'!C20+'JUNIO 26'!C20 -> 3466914.7 | D20: =+'ABRIL 26'!D20+'MAYO 26'!D20+'JUNIO 26'!D20 -> 283740.18 | E20: =+'ABRIL 26'!E20+'MAYO 26'!E20+'JUNIO 26'!E20 -> 33139.79 | F20: =+'ABRIL 26'!F20+'MAYO 26'!F20+'JUNIO 26'!F20 -> 231671.84 | G20: =+'ABRIL 26'!G20+'MAYO 26'!G20+'JUNIO 26'!G20 -> 82626 | H20: =+'ABRIL 26'!H20+'MAYO 26'!H20+'JUNIO 26'!H20 -> 18035.65 | I20: =+'ABRIL 26'!I20+'MAYO 26'!I20+'JUNIO 26'!I20 -> 83198.42 | J20: ='MAYO 26'!J20 -> 18.68 | K20: =+'ABRIL 26'!J20+'MAYO 26'!K20+'JUNIO 26'!J20 -> 4062.27 | L20: =+'ABRIL 26'!K20+'MAYO 26'!L20+'JUNIO 26'!K20 -> 8256.5 | M20: =+'ABRIL 26'!L20+'MAYO 26'!M20+'JUNIO 26'!L20 -> 0 | N20: =+'JUNIO 26'!M20 -> 4893.24 | O20: =+'ABRIL 26'!M20+'MAYO 26'!N20+'JUNIO 26'!N20 -> 0 | P20: =SUM(C20:O20) -> 4216557.3
... A578: 570 | B578: ZIMATLAN DE ALVAREZ | C578: =+'ABRIL 26'!C578+'MAYO 26'!C578+'JUNIO 26'!C578 -> 7472542.3 | D578: =+'ABRIL 26'!D578+'MAYO 26'!D578+'JUNIO 26'!D578 -> 2478165.9 | E578: =+'ABRIL 26'!E578+'MAYO 26'!E578+'JUNIO 26'!E578 -> 67663.68 | F578: =+'ABRIL 26'!F578+'MAYO 26'!F578+'JUNIO 26'!F578 -> 484778.7 | G578: =+'ABRIL 26'!G578+'MAYO 26'!G578+'JUNIO 26'!G578 -> 155878 | H578: =+'ABRIL 26'!H578+'MAYO 26'!H578+'JUNIO 26'!H578 -> 38477.96 | I578: =+'ABRIL 26'!I578+'MAYO 26'!I578+'JUNIO 26'!I578 -> 169831.8 | J578: ='MAYO 26'!J578 -> 38.13 | K578: =+'ABRIL 26'!J578+'MAYO 26'!K578+'JUNIO 26'!J578 -> 9281.1 | L578: =+'ABRIL 26'!K578+'MAYO 26'!L578+'JUNIO 26'!K578 -> 17272.39 | M578: =+'ABRIL 26'!L578+'MAYO 26'!M578+'JUNIO 26'!L578 -> 727410 | N578: =+'JUNIO 26'!M578 -> 7796.71 | O578: =+'ABRIL 26'!M578+'MAYO 26'!N578+'JUNIO 26'!N578 -> 0 | P578: =SUM(C578:O578) -> 11629137
A579: TOTAL | C579: =SUM(C9:C578) -> 1.702798e+09 | D579: =SUM(D9:D578) -> 5.3064367e+08 | E579: =SUM(E9:E578) -> 16384995 | F579: =SUM(F9:F578) -> 1.0981591e+08 | G579: =SUM(G9:G578) -> 29381443 | H579: =SUM(H9:H578) -> 8643849.2 | I579: =SUM(I9:I578) -> 34412244 | J579: =SUM(J9:J578) -> 7726.8 | ... O579: =SUM(O9:O578) -> 4154108.3 | P579: =SUM(C579:O579) -> 2.5324339e+09
A580: Nota: La sumatoria de las cantidades en cada uno de los fondos pueden no coincidir por efectos del redondeo.
A583: San Bartolo Coyotepec, Oaxaca, 07 de julio de 2026.
A587: MTRA. ROSA MARÍA SAAVEDRA GUZMÁN
A588: TESORERA

Sheet ABRIL 26
A7: I. Importe de las Participaciones pagadas a los Municipios del Estado de Oaxaca correspondiente al mes de ABRIL de 2026, incluye el 1er Ajuste Trimestral 2026 del Fondo de Fiscalización y Recaudación.
A8: CLAVE DE MUNICIPIO | B8: MUNICIPIO | C8: FONDO GENERAL DE PARTICIPACIONES | D8: FONDO DE FOMENTO MUNICIPAL | E8: FONDO DE IMPUESTOS ESPECIALES SOBRE PRODUCCION Y SERVICIOS | F8: FONDO DE FISCALIZACION Y RECAUDACIÓN | G8: FONDO DE COMPENSACION | H8: IMPUESTO SOBRE AUTOMÓVILES NUEVOS | I8: IMPUESTO A LAS VENTAS FINALES DE GASOLINAS Y DIESEL | J8: FONDO DE COMPENSACION DEL IMPUESTO SOBRE AUTOMOVILES NUEVOS ISAN | K8: ISR ARTICULO 126 | L8: ISR 3- B | M8: HIDROCARBUROS | N8: TOTAL
A9: 001 | B9: ABEJONES | C9: 134509.77 | D9: 53141.6 | E9: 2024.8 | F9: 14504.38 | G9: 1710.86 | H9: 696.72 | I9: 1455.97 | J9: 458.79 | K9: 80.23 | L9: 0 | M9: 0 | N9: =SUM(C9:M9) -> 208583.12
A10: 002 | B10: ACATLAN DE PEREZ FIGUEROA | C10: 3216679.7 | D10: 1897129.9 | E10: 32175.95 | F10: 622822.3 | G10: 91411.16 | H10: 20366.35 | I10: 84717.33 | J10: 6016.5 | K10: 5147.48 | L10: 0 | M10: 42039.98 | N10: =SUM(C10:M10) -> 6018506.7
A11: 003 | B11: ASUNCION CACALOTEPEC | C11: 212430.62 | D11: 49565.6 | E11: 2618.59 | F11: 33182.75 | G11: 5247.57 | H11: 1238.91 | I11: 4435.89 | J11: 542.95 | K11: 246.38 | L11: 0 | M11: 0 | N11: =SUM(C11:M11) -> 309509.26
A12: 004 | B12: ASUNCION CUYOTEPEJI | C12: 123372.88 | D12: 67626.07 | E12: 1494.1 | F12: 19793.89 | G12: 2220.5 | H12: 727.84 | I12: 2256.86 | J12: 333.14 | K12: 149.37 | L12: 0 | M12: 0 | N12: =SUM(C12:M12) -> 217974.65
A13: 005 | B13: ASUNCION IXTALTEPEC | C13: 1745529.9 | D13: 456071.59 | E13: 16885.87 | F13: 325740.88 | G13: 30381.9 | H13: 10828.19 | I13: 35915.45 | J13: 3066.47 | K13: 2676.68 | L13: 0 | M13: 0 | N13: =SUM(C13:M13) -> 2627097
A14: 006 | B14: ASUNCION NOCHIXTLAN | C14: 2188733.3 | D14: 962386.61 | E14: 18129.73 | F14: 464358.03 | G14: 41080.99 | H14: 14361.12 | I14: 51398.45 | J14: 3054.98 | K14: 4005.6 | L14: 138615 | M14: 0 | N14: =SUM(C14:M14) -> 3886123.8
A15: 007 | B15: ASUNCION OCOTLAN | C15: 264057.96 | D15: 84463.28 | E15: 3501.97 | F15: 34301.59 | G15: 5056.17 | H15: 1442.33 | I15: 4146.24 | J15: 779.03 | K15: 228.47 | L15: 0 | M15: 0 | N15: =SUM(C15:M15) -> 397977.04
A16: 008 | B16: ASUNCION TLACOLULITA | C16: 130315.07 | D16: 57698.24 | E16: 1622.56 | F16: 18588.32 | G16: 1485.43 | H16: 732.59 | I16: 1753.8 | J16: 330.59 | K16: 132.13 | L16: 0 | M16: 0 | N16: =SUM(C16:M16) -> 212658.73
A17: 009 | B17: AYOTZINTEPEC | C17: 474543.48 | D17: 167022.62 | E17: 4875.67 | F17: 82025.65 | G17: 13924.19 | H17: 2862.93 | I17: 11870.89 | J17: 1043.47 | K17: 654.12 | L17: 0 | M17: 0 | N17: =SUM(C17:M17) -> 758823.02
A18: 010 | B18: EL BARRIO DE LA SOLEDAD | C18: 1999600 | D18: 482813.04 | E18: 15899.08 | F18: 520366.05 | G18: 26772.75 | H18: 14546.92 | I18: 49716.79 | J18: 1892.22 | K18: 4678.46 | L18: 102867 | M18: 0 | N18: =SUM(C18:M18) -> 3219152.3
A19: 011 | B19: CALIHUALA | C19: 136300.07 | D19: 68512.5 | E19: 1802.33 | F19: 19679.45 | G19: 2897.85 | H19: 773.62 | I19: 2465.18 | J19: 380.36 | K19: 138.63 | L19: 0 | M19: 0 | N19: =SUM(C19:M19) -> 232949.99
A20: 012 | B20: CANDELARIA LOXICHA | C20: 911137.99 | D20: 94580.06 | E20: 8509.2 | F20: 203764.52 | G20: 23546.55 | H20: 6162.15 | I20: 24707.51 | J20: 1354.09 | K20: 1756.49 | L20: 0 | M20: 0 | N20: =SUM(C20:M20) -> 1275518.6
... A578: 570 | B578: ZIMATLAN DE ALVAREZ | C578: 1979358.8 | D578: 777908.03 | E578: 17246.39 | F578: 426312.73 | G578: 44421.72 | H578: 13140.34 | I578: 50435.1 | J578: 3093.7 | K578: 3674.54 | L578: 242859 | M578: 0 | N578: =SUM(C578:M578) -> 3558450.4
A579: TOTAL | C579: =SUM(C9:C578) -> 4.5786015e+08 | D579: =SUM(D9:D578) -> 171732843 | E579: =SUM(E9:E578) -> 4322805.2 | F579: =SUM(F9:F578) -> 93392783 | G579: =SUM(G9:G578) -> 8373049.8 | H579: =SUM(H9:H578) -> 2948727.4 | I579: =SUM(I9:I578) -> 10219435 | J579: =SUM(J9:J578) -> 764400.2 | ... N579: =SUM(N9:N578) -> 7.6866649e+08
A580: Nota: La sumatoria de las cantidades en cada uno de los fondos pueden no coincidir por efectos del redondeo.
A583: San Bartolo Coyotepec, Oaxaca, 07 de julio de 2026.
A587: MTRA. ROSA MARÍA SAAVEDRA GUZMÁN
A588: TESORERA

Sheet MAYO 26
A7: I. Importe de las Participaciones pagadas a los Municipios del Estado de Oaxaca correspondiente al mes de MAYO de 2026, incluye los Ajustes (Negativos) Definitivos 2025, del Fondo de Fomento Municipal y del Fondo de Impuesto Especial Sobre Producción y Servicios.
A8: CLAVE DE MUNICIPIO | B8: MUNICIPIO | C8: FONDO GENERAL DE PARTICIPACIONES | D8: FONDO DE FOMENTO MUNICIPAL | E8: FONDO DE IMPUESTOS ESPECIALES SOBRE PRODUCCION Y SERVICIOS | F8: FONDO DE FISCALIZACION Y RECAUDACIÓN | G8: FONDO DE COMPENSACION | H8: IMPUESTO SOBRE AUTOMÓVILES NUEVOS | I8: IMPUESTO A LAS VENTAS FINALES DE GASOLINAS Y DIESEL | J8: 9/11 FIEPS GASOLINA Y DIESEL (CORRESPONDIENTE A ABRIL 2026) | K8: FONDO DE COMPENSACION DEL IMPUESTO SOBRE AUTOMOVILES NUEVOS ISAN | L8: ISR ARTICULO 126 | M8: ISR 3-B | N8: HIDROCARBUROS | O8: TOTAL
A9: 001 | B9: ABEJONES | C9: 152871.04 | D9: 53141.6 | E9: 2017.16 | F9: 6015.11 | G9: 2126.3 | H9: 698.64 | I9: 1806.89 | J9: 1.1 | K9: 458.79 | L9: 126.81 | M9: 0 | N9: 0 | O9: =SUM(C9:N9) -> 219263.44
A10: 002 | B10: ACATLAN DE PEREZ FIGUEROA | C10: 4394727.7 | D10: 1647883 | E10: 31685.83 | F10: 78156.1 | G10: 113608.36 | H10: 20489.35 | I10: 105136.16 | J10: 64.05 | K10: 6016.5 | L10: 8135.79 | M10: 0 | N10: 42065.78 | O10: =SUM(C10:N10) -> 6447968.6
A11: 003 | B11: ASUNCION CACALOTEPEC | C11: 268816.32 | D11: 49565.6 | E11: 2595.12 | F11: 7113.03 | G11: 6521.82 | H11: 1244.8 | I11: 5505.04 | J11: 3.35 | K11: 542.95 | L11: 389.41 | M11: 0 | N11: 0 | O11: =SUM(C11:N11) -> 342297.44
A12: 004 | B12: ASUNCION CUYOTEPEJI | C12: 157557.4 | D12: 61711.49 | E12: 1479.88 | F12: 3988.8 | G12: 2759.7 | H12: 731.41 | I12: 2800.81 | J12: 1.71 | K12: 333.14 | L12: 236.08 | M12: 0 | N12: 0 | O12: =SUM(C12:N12) -> 231600.42
A13: 005 | B13: ASUNCION IXTALTEPEC | C13: 2358113.3 | D13: 425843.63 | E13: 16631.01 | F13: 42515.19 | G13: 37759.49 | H13: 10892.15 | I13: 44571.9 | J13: 27.16 | K13: 3066.47 | L13: 4230.6 | M13: 0 | N13: 0 | O13: =SUM(C13:N13) -> 2943650.9
A14: 006 | B14: ASUNCION NOCHIXTLAN | C14: 3105451.5 | D14: 860349.37 | E14: 17748.34 | F14: 40516.65 | G14: 51056.61 | H14: 14456.84 | I14: 63786.66 | J14: 38.86 | K14: 3054.98 | L14: 6331 | M14: 138099 | N14: 0 | O14: =SUM(C14:N14) -> 4300889.9
A15: 007 | B15: ASUNCION OCOTLAN | C15: 316345.35 | D15: 84463.28 | E15: 3480.22 | F15: 10126.71 | G15: 6283.95 | H15: 1447.79 | I15: 5145.58 | J15: 3.13 | K15: 779.03 | L15: 361.11 | M15: 0 | N15: 0 | O15: =SUM(C15:N15) -> 428436.15
A16: 008 | B16: ASUNCION TLACOLULITA | C16: 160554.77 | D16: 56368.04 | E16: 1609.98 | F16: 4607.1 | G16: 1846.14 | H16: 735.75 | I16: 2176.5 | J16: 1.33 | K16: 330.59 | L16: 208.84 | M16: 0 | N16: 0 | O16: =SUM(C16:N16) -> 228439.04
A17: 009 | B17: AYOTZINTEPEC | C17: 624244.77 | D17: 167022.62 | E17: 4813.38 | F17: 12811.8 | G17: 17305.37 | H17: 2878.56 | I17: 14732.04 | J17: 8.98 | K17: 1043.47 | L17: 1033.86 | M17: 0 | N17: 0 | O17: =SUM(C17:N17) -> 845894.85
A18: 010 | B18: EL BARRIO DE LA SOLEDAD | C18: 3070308.3 | D18: 428273.28 | E18: 15453.62 | F18: 25327.93 | G18: 33273.93 | H18: 14658.71 | I18: 61699.68 | J18: 37.59 | K18: 1892.22 | L18: 7394.48 | M18: 99563 | N18: 0 | O18: =SUM(C18:N18) -> 3757882.7
A19: 011 | B19: CALIHUALA | C19: 168027.48 | D19: 62837.52 | E19: 1789.13 | F19: 5010.39 | G19: 3601.54 | H19: 776.93 | I19: 3059.35 | J19: 1.86 | K19: 380.36 | L19: 219.11 | M19: 0 | N19: 0 | O19: =SUM(C19:N19) -> 245703.67
A20: 012 | B20: CANDELARIA LOXICHA | C20: 1313127.6 | D20: 94580.06 | E20: 8341.96 | F20: 17906.06 | G20: 29264.32 | H20: 6204.12 | I20: 30662.59 | J20: 18.68 | K20: 1354.09 | L20: 2776.21 | M20: 0 | N20: 0 | O20: =SUM(C20:N20) -> 1504235.7
... A578: 570 | B578: ZIMATLAN DE ALVAREZ | C578: 2820311.5 | D578: 688480.46 | E578: 16896.53 | F578: 37501.31 | G578: 55208.57 | H578: 13228.14 | I578: 62591.12 | J578: 38.13 | K578: 3093.7 | L578: 5807.75 | M578: 242504 | N578: 0 | O578: =SUM(C578:N578) -> 3945661.2
A579: TOTAL | C579: =SUM(C9:C578) -> 6.3828538e+08 | D579: =SUM(D9:D578) -> 1.5682348e+08 | E579: =SUM(E9:E578) -> 4247741.2 | F579: =SUM(F9:F578) -> 9973830 | G579: =SUM(G9:G578) -> 10406263 | H579: =SUM(H9:H578) -> 2967564.8 | I579: =SUM(I9:I578) -> 12682554 | J579: =SUM(J9:J578) -> 7726.8 | ... N579: =SUM(N9:N578) -> 1384061.5 | O579: =SUM(C579:N579) -> 8.8029011e+08
A580: Nota: La sumatoria de las cantidades en cada uno de los fondos pueden no coincidir por efectos del redondeo.
A584: San Bartolo Coyotepec, Oaxaca, 07 de julio de 2026.
A588: MTRA. ROSA MARÍA SAAVEDRA GUZMÁN
A589: TESORERA

Sheet JUNIO 26
A7: I. Importe de las Participaciones pagadas a los Municipios del Estado de Oaxaca correspondiente al mes de JUNIO de 2026, incluye los Ajustes Definitivos 2025 (Negativos) del Fondo General de Participaciones y del Fondo de Fiscalización y Recaudación, asi como el 1er Ajuste Cuatrimestral 2026 del Fondo General de Participaciones, del Fondo de Fomento Municipal y del Fondo de Impuesto Especial Sobre Producción y Servicios y el Impuesto Sobre la Venta Final de Bebidas con Contenido Alcohólico correspondiente al Ejercicio 2024.
A8: CLAVE DE MUNICIPIO | B8: MUNICIPIO | C8: FONDO GENERAL DE PARTICIPACIONES | D8: FONDO DE FOMENTO MUNICIPAL | E8: FONDO DE IMPUESTOS ESPECIALES SOBRE PRODUCCION Y SERVICIOS | F8: FONDO DE FISCALIZACION Y RECAUDACIÓN | G8: FONDO DE COMPENSACION | H8: IMPUESTO SOBRE AUTOMÓVILES NUEVOS | I8: IMPUESTO A LAS VENTAS FINALES DE GASOLINAS Y DIESEL | J8: FONDO DE COMPENSACION DEL IMPUESTO SOBRE AUTOMOVILES NUEVOS ISAN | K8: ISR ARTICULO 126 | L8: ISR 3-B | M8: IMPUESTO SOBRE LA VENTA FINAL DE BEBIDAS CON CONTENIDO ALCOHÓLICO (CORRESPONDIENTE AL EJERCICIO 2024) | N8: HIDROCARBUROS | O8: TOTAL
A9: 001 | B9: ABEJONES | C9: 149651.86 | D9: 53141.6 | E9: 2380.13 | F9: 5654.05 | G9: 2166.32 | H9: 674.21 | I9: 1639.87 | J9: 458.79 | K9: 170.09 | L9: 0 | M9: 2149.73 | N9: 0 | O9: =SUM(C9:N9) -> 218086.65
A10: 002 | B10: ACATLAN DE PEREZ FIGUEROA | C10: 4188187.2 | D10: 2548956 | E10: 54973.89 | F10: 54990.75 | G10: 115746.71 | H10: 18922.27 | I10: 95418.01 | J10: 6016.5 | K10: 10912.76 | L10: 0 | M10: 13927.81 | N10: 42150.05 | O10: =SUM(C10:N10) -> 7150201.9
A11: 003 | B11: ASUNCION CACALOTEPEC | C11: 258930.53 | D11: 49565.6 | E11: 3709.78 | F11: 6004.25 | G11: 6644.58 | H11: 1169.79 | I11: 4996.19 | J11: 542.95 | K11: 522.32 | L11: 0 | M11: 2603.04 | N11: 0 | O11: =SUM(C11:N11) -> 334689.03
A12: 004 | B12: ASUNCION CUYOTEPEJI | C12: 151564.03 | D12: 83093.77 | E12: 2155.66 | F12: 3316.59 | G12: 2811.64 | H12: 685.94 | I12: 2541.92 | J12: 333.14 | K12: 316.67 | L12: 0 | M12: 2220.41 | N12: 0 | O12: =SUM(C12:N12) -> 249039.77
A13: 005 | B13: ASUNCION IXTALTEPEC | C13: 2250712.5 | D13: 535123.2 | E13: 28740.76 | F13: 30469.24 | G13: 38470.2 | H13: 10077.27 | I13: 40451.95 | J13: 3066.47 | K13: 5674.62 | L13: 0 | M13: 5981.34 | N13: 0 | O13: =SUM(C13:N13) -> 2948767.6
A14: 006 | B14: ASUNCION NOCHIXTLAN | C14: 2944728.6 | D14: 1229232.6 | E14: 35870.33 | F14: 22490.13 | G14: 52017.61 | H14: 13237.39 | I14: 57890.61 | J14: 3054.98 | K14: 8491.95 | L14: 137987 | M14: 7363.86 | N14: 0 | O14: =SUM(C14:N14) -> 4512365
A15: 007 | B15: ASUNCION OCOTLAN | C15: 307178.1 | D15: 84463.28 | E15: 4513.85 | F15: 9098.52 | G15: 6402.23 | H15: 1378.24 | I15: 4669.95 | J15: 779.03 | K15: 484.36 | L15: 0 | M15: 2562.66 | N15: 0 | O15: =SUM(C15:N15) -> 421530.22
A16: 008 | B16: ASUNCION TLACOLULITA | C16: 155253.01 | D16: 61176.96 | E16: 2207.77 | F16: 4012.46 | G16: 1880.88 | H16: 695.52 | I16: 1975.32 | J16: 330.59 | K16: 280.12 | L16: 0 | M16: 2121.3 | N16: 0 | O16: =SUM(C16:N16) -> 229933.93
A17: 009 | B17: AYOTZINTEPEC | C17: 597998.5 | D17: 167022.62 | E17: 7772.74 | F17: 9868.05 | G17: 17631.09 | H17: 2679.42 | I17: 13370.3 | J17: 1043.47 | K17: 1386.75 | L17: 0 | M17: 3748.28 | N17: 0 | O17: =SUM(C17:N17) -> 822521.22
A18: 010 | B18: EL BARRIO DE LA SOLEDAD | C18: 2882587.1 | D18: 625444.43 | E18: 36619.75 | F18: 4273.32 | G18: 33900.22 | H18: 13234.42 | I18: 55996.54 | J18: 1892.22 | K18: 9918.43 | L18: 0 | M18: 5506.51 | N18: 0 | O18: =SUM(C18:N18) -> 3669372.9
A19: 011 | B19: CALIHUALA | C19: 162464.9 | D19: 83353.62 | E19: 2416.32 | F19: 4386.5 | G19: 3669.32 | H19: 734.73 | I19: 2776.56 | J19: 380.36 | K19: 293.9 | L19: 0 | M19: 2298.8 | N19: 0 | O19: =SUM(C19:N19) -> 262775.01
A20: 012 | B20: CANDELARIA LOXICHA | C20: 1242649.1 | D20: 94580.06 | E20: 16288.63 | F20: 10001.26 | G20: 29815.13 | H20: 5669.38 | I20: 27828.32 | J20: 1354.09 | K20: 3723.8 | L20: 0 | M20: 4893.24 | N20: 0 | O20: =SUM(C20:N20) -> 1436803
... A578: 570 | B578: ZIMATLAN DE ALVAREZ | C578: 2672872 | D578: 1011777.4 | E578: 33520.76 | F578: 20964.66 | G578: 56247.71 | H578: 12109.48 | I578: 56805.58 | J578: 3093.7 | K578: 7790.1 | L578: 242047 | M578: 7796.71 | N578: 0 | O578: =SUM(C578:N578) -> 4125025.1
A579: TOTAL | C579: =SUM(C9:C578) -> 6.0665245e+08 | D579: =SUM(D9:D578) -> 2.0208734e+08 | E579: =SUM(E9:E578) -> 7814448.6 | F579: =SUM(F9:F578) -> 6449297.3 | G579: =SUM(G9:G578) -> 10602130 | H579: =SUM(H9:H578) -> 2727557 | I579: =SUM(I9:I578) -> 11510255 | J579: =SUM(J9:J578) -> 764400.2 | ... N579: =SUM(N9:N578) -> 1386833.9 | O579: =SUM(C579:N579) -> 8.8347732e+08
A580: Nota: La sumatoria de las cantidades en cada uno de los fondos pueden no coincidir por efectos del redondeo
A583: San Bartolo Coyotepec, Oaxaca, 07 de julio de 2026.
A586: MTRA. ROSA MARÍA SAAVEDRA GUZMÁN
A587: TESORERA
